BEGIN:VCALENDAR
VERSION:2.0
PRODID:-//Ohrwurm - ECPv5.14.2.1//NONSGML v1.0//EN
CALSCALE:GREGORIAN
METHOD:PUBLISH
X-WR-CALNAME:Ohrwurm
X-ORIGINAL-URL:https://www.kinderhaus-ohrwurm.at
X-WR-CALDESC:Veranstaltungen für Ohrwurm
BEGIN:VTIMEZONE
TZID:UTC
BEGIN:STANDARD
TZOFFSETFROM:+0000
TZOFFSETTO:+0000
TZNAME:UTC
DTSTART:20260101T000000
END:STANDARD
END:VTIMEZONE
BEGIN:VEVENT
DTSTART;TZID=UTC:20261013T160000
DTEND;TZID=UTC:20261013T200000
DTSTAMP:20260423T154500
CREATED:20250923T102129Z
LAST-MODIFIED:20250923T102248Z
UID:27012-1791907200-1791921600@www.kinderhaus-ohrwurm.at
SUMMARY:SchülerInnen-Café
DESCRIPTION:für die Vorschulkinder\, ab 16:00 Uhr\, Snacks & Getränke für die Eltern ab 18:00!
URL:https://www.kinderhaus-ohrwurm.at/event/schuelerinnen-cafe-2/
END:VEVENT
END:VCALENDAR